BEGIN:VCALENDAR
VERSION:2.0
PRODID:icalendar-ruby
CALSCALE:GREGORIAN
METHOD:PUBLISH
BEGIN:VEVENT
DTSTAMP:20260423T075200Z
UID:https://www.keyesandco.com.auproperty?property_id=1765183
DTSTART:20260512T180000
DTEND:20260512T183000
CLASS:PUBLIC
CREATED:20260423T133525
DESCRIPTION: 
LAST-MODIFIED:20260423T142808
LOCATION:25 Waterlily Circuit\, DOUGLAS QLD 4814\, Australia
SUMMARY:25 Waterlily Circuit\,  Auction
URL;VALUE=URI:https://www.keyesandco.com.auproperty?property_id=1765183
END:VEVENT
END:VCALENDAR
