BEGIN:VCALENDAR
VERSION:2.0
PRODID:icalendar-ruby
CALSCALE:GREGORIAN
METHOD:PUBLISH
BEGIN:VEVENT
DTSTAMP:20260423T074822Z
UID:https://www.keyesandco.com.auproperty?property_id=1765181
DTSTART:20260512T180000
DTEND:20260512T183000
CLASS:PUBLIC
CREATED:20260423T133524
DESCRIPTION: 
LAST-MODIFIED:20260423T153242
LOCATION:27 Soule Street\, HERMIT PARK QLD 4812\, Australia
SUMMARY:27 Soule Street\,  Auction
URL;VALUE=URI:https://www.keyesandco.com.auproperty?property_id=1765181
END:VEVENT
END:VCALENDAR
