BEGIN:VCALENDAR
VERSION:2.0
PRODID:icalendar-ruby
CALSCALE:GREGORIAN
METHOD:PUBLISH
BEGIN:VTIMEZONE
TZID:Australia/Brisbane
BEGIN:STANDARD
DTSTART:19920301T020000
TZOFFSETFROM:+1100
TZOFFSETTO:+1000
TZNAME:AEST
END:STANDARD
END:VTIMEZONE
BEGIN:VEVENT
DTSTAMP:20260423T075506Z
UID:inspection_3011472
DTSTART;TZID=Australia/Brisbane:20260426T121500
DTEND;TZID=Australia/Brisbane:20260426T124500
CLASS:PUBLIC
CREATED:20260423T155031
DESCRIPTION: 
LAST-MODIFIED:20260423T155031
LOCATION:14 Boxwood Court\, DOUGLAS QLD 4814\, Australia
SUMMARY:14 Boxwood Court\,  Inspection
URL;VALUE=URI:https://www.keyesandco.com.au
END:VEVENT
END:VCALENDAR
